BEGIN:VCALENDAR
METHOD:PUBLISH
CALSCALE:GREGORIAN
PRODID:Elbphilharmonie
VERSION:2.0
BEGIN:VTIMEZONE
TZID:Europe/Berlin
BEGIN:DAYLIGHT
TZOFFSETFROM:+0100
TZOFFSETTO:+0200
TZNAME:CEST
DTSTART:20200329T010000
RRULE:FREQ=YEARLY;INTERVAL=1;BYDAY=-1SU;BYMONTH=3
END:DAYLIGHT
BEGIN:STANDARD
TZOFFSETFROM:+0200
TZOFFSETTO:+0100
TZNAME:CET
DTSTART:20201025T010000
RRULE:FREQ=YEARLY;INTERVAL=1;BYDAY=-1SU;BYMONTH=10
END:STANDARD
END:VTIMEZONE
BEGIN:VEVENT
DTSTAMP:20260423T195400Z
DTSTART:20270416T180000Z
DTEND:20270416T200000Z
LOCATION:Laeiszhalle Kleiner Saal
SUMMARY:Fibonacci Quartet
DESCRIPTION:Performers\nFibonacci Quartet\nLuna de Mol: violin\nKryštof K
 ohout: violin\nElliot Kempton: viola\nFindlay Spence: violoncello\n\nProgr
 amme\nWolfgang Amadeus Mozart\nString Quartet in D major\, KV 575\nBohusla
 v Martinů\nString Quartet No. 3\n– Interval – \nFrank Bridge\nThree I
 dylls for String Quartet\nAlban Berg\nLyrische Suite für Streichquartett
UID:event28001@Elbphilharmonie.de
URL:https://www.elbphilharmonie.de/en/whats-on/fibonacci-quartet/28001
END:VEVENT
END:VCALENDAR
