BEGIN:VCALENDAR
METHOD:PUBLISH
CALSCALE:GREGORIAN
PRODID:Elbphilharmonie
VERSION:2.0
BEGIN:VTIMEZONE
TZID:Europe/Berlin
BEGIN:DAYLIGHT
TZOFFSETFROM:+0100
TZOFFSETTO:+0200
TZNAME:CEST
DTSTART:20200329T010000
RRULE:FREQ=YEARLY;INTERVAL=1;BYDAY=-1SU;BYMONTH=3
END:DAYLIGHT
BEGIN:STANDARD
TZOFFSETFROM:+0200
TZOFFSETTO:+0100
TZNAME:CET
DTSTART:20201025T010000
RRULE:FREQ=YEARLY;INTERVAL=1;BYDAY=-1SU;BYMONTH=10
END:STANDARD
END:VTIMEZONE
BEGIN:VEVENT
DTSTAMP:20260423T115500Z
DTSTART:20261028T183000Z
DTEND:20261028T201000Z
LOCATION:Elbphilharmonie Kleiner Saal
SUMMARY:Federico Colli / Piano Recital
DESCRIPTION:Performers\nFederico Colli: piano\n\nProgramme\nDomenico Scarl
 atti\nSonate f-Moll K 19\nSonate d-Moll K 9\nSonate d-Moll K 32\nLeoš Jan
 áček\n1. X. 1905 / Sonate für Klavier »Von der Straße«\nDomenico Sca
 rlatti\nSonate C-Dur K 95\nSonate D-Dur K 430\nSonate A-Dur K 39\n– Inte
 rval – \nDomenico Scarlatti\nSonate c-Moll K 40\nSonate G-Dur K 431\nSon
 ate g-Moll K 35\nSonata in D minor\, K 1\nSonata in A major\, K 208\nWolfg
 ang Amadeus Mozart\nSonata for Piano in A major\, KV 300i
UID:event27977@Elbphilharmonie.de
URL:https://www.elbphilharmonie.de/en/whats-on/federico-colli-piano-recita
 l/27977
END:VEVENT
END:VCALENDAR
