BEGIN:VCALENDAR
METHOD:PUBLISH
CALSCALE:GREGORIAN
PRODID:Elbphilharmonie
VERSION:2.0
BEGIN:VTIMEZONE
TZID:Europe/Berlin
BEGIN:DAYLIGHT
TZOFFSETFROM:+0100
TZOFFSETTO:+0200
TZNAME:CEST
DTSTART:20200329T010000
RRULE:FREQ=YEARLY;INTERVAL=1;BYDAY=-1SU;BYMONTH=3
END:DAYLIGHT
BEGIN:STANDARD
TZOFFSETFROM:+0200
TZOFFSETTO:+0100
TZNAME:CET
DTSTART:20201025T010000
RRULE:FREQ=YEARLY;INTERVAL=1;BYDAY=-1SU;BYMONTH=10
END:STANDARD
END:VTIMEZONE
BEGIN:VEVENT
DTSTAMP:20260424T003700Z
DTSTART:20270213T150000Z
DTEND:20270213T161000Z
LOCATION:Laeiszhalle Kleiner Saal
SUMMARY:Fabian Egger / Simon Haje
DESCRIPTION:Performers\nFabian Johannes Egger: flute\nSimon Haje: piano\n\
 nProgramme\nAlbert Roussel\nJoueurs de Flûte op. 27\nClaude Debussy\nPr
 élude à l’après-midi d’un faune\nCarl Reinecke\nSonate für Flöte 
 und Klavier op. 167 »Undine«\nClaude Debussy\nSyrinx für Flöte solo\n
 L’isle joyeuse\nAndré Jolivet\nChant de Linos (Fassung für Flöte und 
 Klavier)
UID:event28013@Elbphilharmonie.de
URL:https://www.elbphilharmonie.de/en/whats-on/fabian-egger-simon-haje/280
 13
END:VEVENT
END:VCALENDAR
