BEGIN:VCALENDAR
METHOD:PUBLISH
CALSCALE:GREGORIAN
PRODID:Elbphilharmonie
VERSION:2.0
BEGIN:VTIMEZONE
TZID:Europe/Berlin
BEGIN:DAYLIGHT
TZOFFSETFROM:+0100
TZOFFSETTO:+0200
TZNAME:CEST
DTSTART:20200329T010000
RRULE:FREQ=YEARLY;INTERVAL=1;BYDAY=-1SU;BYMONTH=3
END:DAYLIGHT
BEGIN:STANDARD
TZOFFSETFROM:+0200
TZOFFSETTO:+0100
TZNAME:CET
DTSTART:20201025T010000
RRULE:FREQ=YEARLY;INTERVAL=1;BYDAY=-1SU;BYMONTH=10
END:STANDARD
END:VTIMEZONE
BEGIN:VEVENT
DTSTAMP:20260423T115400Z
DTSTART:20270113T183000Z
DTEND:20270113T203000Z
LOCATION:Elbphilharmonie Kleiner Saal
SUMMARY:Ensemble Resonanz / Charly Hübner / Hêja Netirk / Kalle Kalima
DESCRIPTION:Performers\nEnsemble Resonanz\nHêja Netirk: voice\nCharly Hü
 bner: voice\nKalle Kalima: electric guitar\n\nProgramme\nAnn Cleare\nNeues
  Werk\nBryce Dessner\nAheym für Streichorchester\nongs aus »A mercy seat
  – Winterreise« Eine Séance zwischen Nick Cave und Franz Schubert
UID:event28657@Elbphilharmonie.de
URL:https://www.elbphilharmonie.de/en/whats-on/ensemble-resonanz-charly-hu
 bner-heja-netirk-kalle-kalima/28657
END:VEVENT
END:VCALENDAR
