BEGIN:VCALENDAR
METHOD:PUBLISH
CALSCALE:GREGORIAN
PRODID:Elbphilharmonie
VERSION:2.0
BEGIN:VTIMEZONE
TZID:Europe/Berlin
BEGIN:DAYLIGHT
TZOFFSETFROM:+0100
TZOFFSETTO:+0200
TZNAME:CEST
DTSTART:20200329T010000
RRULE:FREQ=YEARLY;INTERVAL=1;BYDAY=-1SU;BYMONTH=3
END:DAYLIGHT
BEGIN:STANDARD
TZOFFSETFROM:+0200
TZOFFSETTO:+0100
TZNAME:CET
DTSTART:20201025T010000
RRULE:FREQ=YEARLY;INTERVAL=1;BYDAY=-1SU;BYMONTH=10
END:STANDARD
END:VTIMEZONE
BEGIN:VEVENT
DTSTAMP:20260423T151300Z
DTSTART:20261211T183000Z
DTEND:20261211T213000Z
LOCATION:Elbphilharmonie Kleiner Saal
SUMMARY:Ensemble Modern: Ryoji Ikeda
DESCRIPTION:Performers\nEnsemble Modern\nAlexandre Babel: percussion\nSté
 phane Garin: percussion\nAmélie Grould: percussion\n\nProgramme\nRyoji Ik
 eda\nMusic for Strings\n– Interval – \nRyoji Ikeda\nMusic for Percussi
 on 2
UID:event28171@Elbphilharmonie.de
URL:https://www.elbphilharmonie.de/en/whats-on/ensemble-modern-ryoji-ikeda
 /28171
END:VEVENT
END:VCALENDAR
