BEGIN:VCALENDAR
METHOD:PUBLISH
CALSCALE:GREGORIAN
PRODID:Elbphilharmonie
VERSION:2.0
BEGIN:VTIMEZONE
TZID:Europe/Berlin
BEGIN:DAYLIGHT
TZOFFSETFROM:+0100
TZOFFSETTO:+0200
TZNAME:CEST
DTSTART:20200329T010000
RRULE:FREQ=YEARLY;INTERVAL=1;BYDAY=-1SU;BYMONTH=3
END:DAYLIGHT
BEGIN:STANDARD
TZOFFSETFROM:+0200
TZOFFSETTO:+0100
TZNAME:CET
DTSTART:20201025T010000
RRULE:FREQ=YEARLY;INTERVAL=1;BYDAY=-1SU;BYMONTH=10
END:STANDARD
END:VTIMEZONE
BEGIN:VEVENT
DTSTAMP:20260423T151400Z
DTSTART:20270513T173000Z
DTEND:20270513T203000Z
LOCATION:Elbphilharmonie Kleiner Saal
SUMMARY:Ema Nikolovska / Song Recital
DESCRIPTION:Performers\nEma Nikolovska: mezzo-soprano\nSean Shibe: guitar\
 , e-guitar and electronic\n\nProgramme\nOrlando\nJules Massenet\nÔ souver
 ain\, ô juge\, ô père / Arie des Rodrigue aus der Oper »Le Cid«\nJohn
  Dowland\nPraeludium\nCome Again\, Sweet Love Doth Now Invite F I/66\nThin
 k’st Thou Then by Thy Feigning\nCome\, Heavy Sleep F I/40\nSasha Scott\n
 1000 Parts of You\nDetlev Glanert\nInsel der Düfte / aus: Orlando-Lieder\
 nHexensabbat / aus: Orlando-Lieder\nThomas Adès\nOver the Sea / Szene der
  Blanca aus der Oper »The Exterminating Angel«\nDetlev Glanert\nLied der
  Wehmut / aus: Orlando-Lieder\nThomas Adès\nHabanera / Arie der Leonora a
 us »The Exterminating Angel«\n– Interval – \nDetlev Glanert\nOrlando
 s Traum / aus: Orlando-Lieder\nLied vom Meer / aus: Orlando-Lieder\nDer Hi
 ppogryph / aus: Orlando-Lieder\nCassandra Miller\nDream Memorandum\nHans A
 brahamsen\nSee the Limpid Spring / aus: Two Inger Christensen Songs\nFranz
  Schubert\nSo laßt mich scheinen / aus: Gesänge aus Wilhelm Meister\nJoh
 n Dowland\nOrlando Sleepeth\nPauline Viardot-García\nAimez-moi\nBob Dylan
 \nMasters of War\nLaurie Anderson\nO Superman (for Massenet)
UID:event28201@Elbphilharmonie.de
URL:https://www.elbphilharmonie.de/en/whats-on/ema-nikolovska-song-recital
 /28201
END:VEVENT
END:VCALENDAR
