BEGIN:VCALENDAR
METHOD:PUBLISH
CALSCALE:GREGORIAN
PRODID:Elbphilharmonie
VERSION:2.0
BEGIN:VTIMEZONE
TZID:Europe/Berlin
BEGIN:DAYLIGHT
TZOFFSETFROM:+0100
TZOFFSETTO:+0200
TZNAME:CEST
DTSTART:20200329T010000
RRULE:FREQ=YEARLY;INTERVAL=1;BYDAY=-1SU;BYMONTH=3
END:DAYLIGHT
BEGIN:STANDARD
TZOFFSETFROM:+0200
TZOFFSETTO:+0100
TZNAME:CET
DTSTART:20201025T010000
RRULE:FREQ=YEARLY;INTERVAL=1;BYDAY=-1SU;BYMONTH=10
END:STANDARD
END:VTIMEZONE
BEGIN:VEVENT
DTSTAMP:20260423T115400Z
DTSTART:20261124T183000Z
DTEND:20261124T203000Z
LOCATION:Elbphilharmonie Kleiner Saal
SUMMARY:Elisabeth Brauß / Piano Recital
DESCRIPTION:Performers\nElisabeth Brauß: piano\n\nProgramme\nDomenico Sca
 rlatti\nSonate D-Dur K 119\nSonata in A major\, K 208\nSonate a-Moll K 175
 \nIsaac Albéniz\nEvocación / aus: Iberia-Suite\, Heft 1\nDomenico Scarla
 tti\nSonate As-Dur K 127\nSonate c-Moll K 11\nSonate G-Dur K 427\nOlivier 
 Messiaen\nLe baiser de l’enfant-Jésus / aus: Vingt regards sur l’enfa
 nt-Jésus\nDomenico Scarlatti\nSonate c-Moll K 58\nSonate c-Moll K 116\nSo
 nate c-Moll K 115\nRobert Schumann\nArabeske in C major\, Op. 18\nDomenico
  Scarlatti\nSonate c-Moll K 56\n– Interval – \nBéla Bartók\n14 Bagat
 elles\, Sz 38\nDomenico Scarlatti\nSonate h-Moll K 87\nSonate Fis-Dur K 31
 9\nSonate g-Moll K 450\nWolfgang Amadeus Mozart\nRondo a-Moll KV 511\nDome
 nico Scarlatti\nSonate f-Moll K 69\nSonate f-Moll K 386\nSonate g-Moll K 3
 73\nMaurice Ravel\nLe tombeau de Couperin (Auswahl)
UID:event27979@Elbphilharmonie.de
URL:https://www.elbphilharmonie.de/en/whats-on/elisabeth-brau-piano-recita
 l/27979
END:VEVENT
END:VCALENDAR
