BEGIN:VCALENDAR
METHOD:PUBLISH
CALSCALE:GREGORIAN
PRODID:Elbphilharmonie
VERSION:2.0
BEGIN:VTIMEZONE
TZID:Europe/Berlin
BEGIN:DAYLIGHT
TZOFFSETFROM:+0100
TZOFFSETTO:+0200
TZNAME:CEST
DTSTART:20200329T010000
RRULE:FREQ=YEARLY;INTERVAL=1;BYDAY=-1SU;BYMONTH=3
END:DAYLIGHT
BEGIN:STANDARD
TZOFFSETFROM:+0200
TZOFFSETTO:+0100
TZNAME:CET
DTSTART:20201025T010000
RRULE:FREQ=YEARLY;INTERVAL=1;BYDAY=-1SU;BYMONTH=10
END:STANDARD
END:VTIMEZONE
BEGIN:VEVENT
DTSTAMP:20260423T164300Z
DTSTART:20270122T183000Z
DTEND:20270122T203000Z
LOCATION:Elbphilharmonie Kleiner Saal
SUMMARY:Elionor Martinez\, soprano
DESCRIPTION:Performers\nElionor Martínez: soprano\nJosep Maria Martí Dur
 an: theorbo\n\nProgramme\nClaudio Monteverdi\nSì dolce è’l tormento\nQ
 uel sguardo sdegnosetto\nLamento d’Arianna »Lasciatemi morire«\nBarbar
 a Strozzi\nAmor dormiglione\, amor non dormir più\nL’amante bugiardo\nB
 egl’occhi bel seno\nHenry Purcell\nNow that the Sun / Evening Hymn Z 193
 \nDear pretty Youth / The Tempest or The Enchanted Island Z 631\nAlfonso F
 errabosco jun.\nHear Me\, oh God\nJohn Dowland\nNow\, o now I Needs Must P
 art / Lied mit Consort F I/12\nRichard Nicholson\nJoan\, quoth John\n– I
 nterval – \nFrancesca Caccini\nSe muove\nCh’amor sia nudo\nS’io me
 ’n vò\nLa pastorella mia / aus: Il primo libro delle musiche a una e du
 e voci\nAnna Campmany\nNeues Werk\nJuan Hidalgo\nAy\, que me río de Amor\
 nSolo es querer\nGeorg Friedrich Händel\nTu del ciel ministro eletto / Ar
 ie der Bellezza aus »Il trionfo del Tempo e del Disinganno« HWV 46a
UID:event28151@Elbphilharmonie.de
URL:https://www.elbphilharmonie.de/en/whats-on/elionor-martinez-soprano/28
 151
END:VEVENT
END:VCALENDAR
