BEGIN:VCALENDAR
METHOD:PUBLISH
CALSCALE:GREGORIAN
PRODID:Elbphilharmonie
VERSION:2.0
BEGIN:VTIMEZONE
TZID:Europe/Berlin
BEGIN:DAYLIGHT
TZOFFSETFROM:+0100
TZOFFSETTO:+0200
TZNAME:CEST
DTSTART:20200329T010000
RRULE:FREQ=YEARLY;INTERVAL=1;BYDAY=-1SU;BYMONTH=3
END:DAYLIGHT
BEGIN:STANDARD
TZOFFSETFROM:+0200
TZOFFSETTO:+0100
TZNAME:CET
DTSTART:20201025T010000
RRULE:FREQ=YEARLY;INTERVAL=1;BYDAY=-1SU;BYMONTH=10
END:STANDARD
END:VTIMEZONE
BEGIN:VEVENT
DTSTAMP:20260423T164400Z
DTSTART:20270117T150000Z
DTEND:20270117T171500Z
LOCATION:Bürgerhaus Wilhelmsburg
SUMMARY:Elbphilharmonie Publikumsorchester
DESCRIPTION:Performers\nElbphilharmonie Publikumsorchester\nconductor: Mic
 hael Petermann\n
UID:event28680@Elbphilharmonie.de
URL:https://www.elbphilharmonie.de/en/whats-on/elbphilharmonie-publikumsor
 chester/28680
END:VEVENT
END:VCALENDAR
