BEGIN:VCALENDAR
METHOD:PUBLISH
CALSCALE:GREGORIAN
PRODID:Elbphilharmonie
VERSION:2.0
BEGIN:VTIMEZONE
TZID:Europe/Berlin
BEGIN:DAYLIGHT
TZOFFSETFROM:+0100
TZOFFSETTO:+0200
TZNAME:CEST
DTSTART:20200329T010000
RRULE:FREQ=YEARLY;INTERVAL=1;BYDAY=-1SU;BYMONTH=3
END:DAYLIGHT
BEGIN:STANDARD
TZOFFSETFROM:+0200
TZOFFSETTO:+0100
TZNAME:CET
DTSTART:20201025T010000
RRULE:FREQ=YEARLY;INTERVAL=1;BYDAY=-1SU;BYMONTH=10
END:STANDARD
END:VTIMEZONE
BEGIN:VEVENT
DTSTAMP:20260423T174600Z
DTSTART:20270703T160000Z
DTEND:20270703T181500Z
LOCATION:Elbphilharmonie Großer Saal
SUMMARY:Elbphilharmonie Publikumsorchester
DESCRIPTION:Performers\nElbphilharmonie Publikumsorchester\nconductor: Mic
 hael Petermann\n
UID:event28450@Elbphilharmonie.de
URL:https://www.elbphilharmonie.de/en/whats-on/elbphilharmonie-publikumsor
 chester/28450
END:VEVENT
END:VCALENDAR
