BEGIN:VCALENDAR
METHOD:PUBLISH
CALSCALE:GREGORIAN
PRODID:Elbphilharmonie
VERSION:2.0
BEGIN:VTIMEZONE
TZID:Europe/Berlin
BEGIN:DAYLIGHT
TZOFFSETFROM:+0100
TZOFFSETTO:+0200
TZNAME:CEST
DTSTART:20200329T010000
RRULE:FREQ=YEARLY;INTERVAL=1;BYDAY=-1SU;BYMONTH=3
END:DAYLIGHT
BEGIN:STANDARD
TZOFFSETFROM:+0200
TZOFFSETTO:+0100
TZNAME:CET
DTSTART:20201025T010000
RRULE:FREQ=YEARLY;INTERVAL=1;BYDAY=-1SU;BYMONTH=10
END:STANDARD
END:VTIMEZONE
BEGIN:VEVENT
DTSTAMP:20260423T151200Z
DTSTART:20261025T183000Z
DTEND:20261025T210000Z
LOCATION:Elbphilharmonie Kleiner Saal
SUMMARY:Doric String Quartet
DESCRIPTION:Performers\nDoric String Quartet\nMaia Cabeza: violin\nYing Xu
 e: violin\nEmma Wernig: viola\nJohn Myerscough: violoncello\n\nProgramme\n
 Joseph Haydn\nStreichquartett g-Moll op. 74/3 »Reiterquartett«\nRobert 
 Schumann\nString Quartet in F major\, Op. 41/2\n– Interval – \nHenry P
 urcell\nFantasia No. 9 à 4 in A minor\, Z 740\nFantasia No. 10 à 4 in E 
 minor\, Z 741\nBenjamin Britten\nStreichquartett Nr. 3 op. 94
UID:event27975@Elbphilharmonie.de
URL:https://www.elbphilharmonie.de/en/whats-on/doric-string-quartet/27975
END:VEVENT
END:VCALENDAR
