BEGIN:VCALENDAR
METHOD:PUBLISH
CALSCALE:GREGORIAN
PRODID:Elbphilharmonie
VERSION:2.0
BEGIN:VTIMEZONE
TZID:Europe/Berlin
BEGIN:DAYLIGHT
TZOFFSETFROM:+0100
TZOFFSETTO:+0200
TZNAME:CEST
DTSTART:20200329T010000
RRULE:FREQ=YEARLY;INTERVAL=1;BYDAY=-1SU;BYMONTH=3
END:DAYLIGHT
BEGIN:STANDARD
TZOFFSETFROM:+0200
TZOFFSETTO:+0100
TZNAME:CET
DTSTART:20201025T010000
RRULE:FREQ=YEARLY;INTERVAL=1;BYDAY=-1SU;BYMONTH=10
END:STANDARD
END:VTIMEZONE
BEGIN:VEVENT
DTSTAMP:20260423T073600Z
DTSTART:20271119T190000Z
DTEND:20271119T220000Z
LOCATION:Laeiszhalle Kleiner Saal
SUMMARY:Dirk Steffens
DESCRIPTION:Performers\nDirk Steffens: Vortrag\nSabine Steffens: Vortrag\n
UID:event28816@Elbphilharmonie.de
URL:https://www.elbphilharmonie.de/en/whats-on/dirk-steffens/28816
END:VEVENT
END:VCALENDAR
