BEGIN:VCALENDAR
METHOD:PUBLISH
CALSCALE:GREGORIAN
PRODID:Elbphilharmonie
VERSION:2.0
BEGIN:VTIMEZONE
TZID:Europe/Berlin
BEGIN:DAYLIGHT
TZOFFSETFROM:+0100
TZOFFSETTO:+0200
TZNAME:CEST
DTSTART:20200329T010000
RRULE:FREQ=YEARLY;INTERVAL=1;BYDAY=-1SU;BYMONTH=3
END:DAYLIGHT
BEGIN:STANDARD
TZOFFSETFROM:+0200
TZOFFSETTO:+0100
TZNAME:CET
DTSTART:20201025T010000
RRULE:FREQ=YEARLY;INTERVAL=1;BYDAY=-1SU;BYMONTH=10
END:STANDARD
END:VTIMEZONE
BEGIN:VEVENT
DTSTAMP:20260423T145800Z
DTSTART:20270305T190000Z
DTEND:20270305T205000Z
LOCATION:Laeiszhalle Großer Saal
SUMMARY:Die Deutsche Kammerphilharmonie Bremen / Bomsori / Paavo Järvi
DESCRIPTION:Performers\nDie Deutsche Kammerphilharmonie Bremen\nBomsori: v
 iolin\nconductor: Paavo Järvi\n\nProgramme\nLudwig van Beethoven\nOuvert
 üre C-Dur op. 124 »Die Weihe des Hauses«\nIgor Strawinsky\nConcerto en
  Ré for Violin and Orchestra\n– Interval – \nLudwig van Beethoven\nSy
 mphony No. 4 in B-flat major\, Op. 60
UID:event28660@Elbphilharmonie.de
URL:https://www.elbphilharmonie.de/en/whats-on/die-deutsche-kammerphilharm
 onie-bremen-bomsori-paavo-jarvi/28660
END:VEVENT
END:VCALENDAR
