BEGIN:VCALENDAR
METHOD:PUBLISH
CALSCALE:GREGORIAN
PRODID:Elbphilharmonie
VERSION:2.0
BEGIN:VTIMEZONE
TZID:Europe/Berlin
BEGIN:DAYLIGHT
TZOFFSETFROM:+0100
TZOFFSETTO:+0200
TZNAME:CEST
DTSTART:20200329T010000
RRULE:FREQ=YEARLY;INTERVAL=1;BYDAY=-1SU;BYMONTH=3
END:DAYLIGHT
BEGIN:STANDARD
TZOFFSETFROM:+0200
TZOFFSETTO:+0100
TZNAME:CET
DTSTART:20201025T010000
RRULE:FREQ=YEARLY;INTERVAL=1;BYDAY=-1SU;BYMONTH=10
END:STANDARD
END:VTIMEZONE
BEGIN:VEVENT
DTSTAMP:20260423T121100Z
DTSTART:20270505T180000Z
DTEND:20270505T201500Z
LOCATION:Elbphilharmonie Großer Saal
SUMMARY:Deutsches Symphonie-Orchester Berlin / Jean-Guihen Queyras / Kazuk
 i Yamada
DESCRIPTION:Performers\nDeutsches Symphonie-Orchester Berlin\nJean-Guihen 
 Queyras: violoncello\nconductor: Kazuki Yamada\n\nProgramme\nUnsuk Chin\ns
 ubito con forza\nHenri Dutilleux\nConcerto for Violoncello and Orchestra 
 »Tout un monde lointain...«\n– Interval – \nHector Berlioz\nSymphoni
 e fantastique / Épisode de la vie d’un artiste\, Op. 14
UID:event28409@Elbphilharmonie.de
URL:https://www.elbphilharmonie.de/en/whats-on/deutsches-symphonie-orchest
 er-berlin-jean-guihen-queyras-kazuki-yamada/28409
END:VEVENT
END:VCALENDAR
