BEGIN:VCALENDAR
METHOD:PUBLISH
CALSCALE:GREGORIAN
PRODID:Elbphilharmonie
VERSION:2.0
BEGIN:VTIMEZONE
TZID:Europe/Berlin
BEGIN:DAYLIGHT
TZOFFSETFROM:+0100
TZOFFSETTO:+0200
TZNAME:CEST
DTSTART:20200329T010000
RRULE:FREQ=YEARLY;INTERVAL=1;BYDAY=-1SU;BYMONTH=3
END:DAYLIGHT
BEGIN:STANDARD
TZOFFSETFROM:+0200
TZOFFSETTO:+0100
TZNAME:CET
DTSTART:20201025T010000
RRULE:FREQ=YEARLY;INTERVAL=1;BYDAY=-1SU;BYMONTH=10
END:STANDARD
END:VTIMEZONE
BEGIN:VEVENT
DTSTAMP:20260423T183200Z
DTSTART:20270208T183000Z
DTEND:20270208T210000Z
LOCATION:Elbphilharmonie Kleiner Saal
SUMMARY:Cuarteto Casals
DESCRIPTION:Performers\nCuarteto Casals\nVera Martínez Mehner: violin\nAb
 el Tomàs: violin\nCristina Cordero: viola\nArnau Tomàs: violoncello\n\nP
 rogramme\nJoseph Haydn\nString Quartet in D major\, Op. 20/4\nRaquel Garc
 ía-Tomás\nNeues Werk\n– Interval – \nFelix Mendelssohn Bartholdy\nSt
 reichquartett D-Dur op. 44/1
UID:event28145@Elbphilharmonie.de
URL:https://www.elbphilharmonie.de/en/whats-on/cuarteto-casals/28145
END:VEVENT
END:VCALENDAR
