BEGIN:VCALENDAR
METHOD:PUBLISH
CALSCALE:GREGORIAN
PRODID:Elbphilharmonie
VERSION:2.0
BEGIN:VTIMEZONE
TZID:Europe/Berlin
BEGIN:DAYLIGHT
TZOFFSETFROM:+0100
TZOFFSETTO:+0200
TZNAME:CEST
DTSTART:20200329T010000
RRULE:FREQ=YEARLY;INTERVAL=1;BYDAY=-1SU;BYMONTH=3
END:DAYLIGHT
BEGIN:STANDARD
TZOFFSETFROM:+0200
TZOFFSETTO:+0100
TZNAME:CET
DTSTART:20201025T010000
RRULE:FREQ=YEARLY;INTERVAL=1;BYDAY=-1SU;BYMONTH=10
END:STANDARD
END:VTIMEZONE
BEGIN:VEVENT
DTSTAMP:20260424T011100Z
DTSTART:20261010T180000Z
DTEND:20261010T200000Z
LOCATION:Elbphilharmonie Großer Saal
SUMMARY:Compagnie La Tempête: »Obsession«
DESCRIPTION:Performers\nCompagnie La Tempête: choir and orchestra \ncondu
 ctor: Simon-Pierre Bestion\n\nProgramme\nObsession\neine immersive Perform
 ance aus Klang\, Licht und Bewegung\nArvo Pärt\nMiserere\nPhilip Glass\n1
 000 Airplanes on the Roof / Bearbeitung für Orchester von Simon-Pierre Be
 stion (Auszüge)\nArvo Pärt\nTriodion für gemischten Chor a cappella\nJe
 han Alain\nTrois Danses / Bearbeitung für Orchester von Simon-Pierre Best
 ion
UID:event27981@Elbphilharmonie.de
URL:https://www.elbphilharmonie.de/en/whats-on/compagnie-la-tempete-obsess
 ion/27981
END:VEVENT
END:VCALENDAR
