BEGIN:VCALENDAR
METHOD:PUBLISH
CALSCALE:GREGORIAN
PRODID:Elbphilharmonie
VERSION:2.0
BEGIN:VTIMEZONE
TZID:Europe/Berlin
BEGIN:DAYLIGHT
TZOFFSETFROM:+0100
TZOFFSETTO:+0200
TZNAME:CEST
DTSTART:20200329T010000
RRULE:FREQ=YEARLY;INTERVAL=1;BYDAY=-1SU;BYMONTH=3
END:DAYLIGHT
BEGIN:STANDARD
TZOFFSETFROM:+0200
TZOFFSETTO:+0100
TZNAME:CET
DTSTART:20201025T010000
RRULE:FREQ=YEARLY;INTERVAL=1;BYDAY=-1SU;BYMONTH=10
END:STANDARD
END:VTIMEZONE
BEGIN:VEVENT
DTSTAMP:20260423T152800Z
DTSTART:20270218T190000Z
DTEND:20270218T210000Z
LOCATION:Laeiszhalle Großer Saal
SUMMARY:Collegium 1704 / Václav Luks
DESCRIPTION:Performers\nCollegium 1704: choir and orchestra \nconductor: V
 áclav Luks\n\nProgramme\nJan Dismas Zelenka\nResponsoria pro Hebdomada Sa
 ncta ZWV 55 (Auswahl)\nJohann Sebastian Bach\nWeinen\, Klagen\, Sorgen\, Z
 agen BWV 12\n– Interval – \nJan Dismas Zelenka\nMissa Dei Filii ZWV 20
UID:event28180@Elbphilharmonie.de
URL:https://www.elbphilharmonie.de/en/whats-on/collegium-1704-vaclav-luks/
 28180
END:VEVENT
END:VCALENDAR
