BEGIN:VCALENDAR
METHOD:PUBLISH
CALSCALE:GREGORIAN
PRODID:Elbphilharmonie
VERSION:2.0
BEGIN:VTIMEZONE
TZID:Europe/Berlin
BEGIN:DAYLIGHT
TZOFFSETFROM:+0100
TZOFFSETTO:+0200
TZNAME:CEST
DTSTART:20200329T010000
RRULE:FREQ=YEARLY;INTERVAL=1;BYDAY=-1SU;BYMONTH=3
END:DAYLIGHT
BEGIN:STANDARD
TZOFFSETFROM:+0200
TZOFFSETTO:+0100
TZNAME:CET
DTSTART:20201025T010000
RRULE:FREQ=YEARLY;INTERVAL=1;BYDAY=-1SU;BYMONTH=10
END:STANDARD
END:VTIMEZONE
BEGIN:VEVENT
DTSTAMP:20260423T164500Z
DTSTART:20270115T190000Z
DTEND:20270115T210000Z
LOCATION:Elbphilharmonie Großer Saal
SUMMARY:Chicago Symphony Orchestra / Klaus Mäkelä
DESCRIPTION:Performers\nChicago Symphony Orchestra\nconductor: Klaus Mäke
 lä\n\nProgramme\nJean Sibelius\nSymphony No. 7 in C major\, Op. 105\n– 
 Interval – \nDmitri Schostakowitsch\nSymphony No. 4 in C minor\, Op. 43
UID:event27928@Elbphilharmonie.de
URL:https://www.elbphilharmonie.de/en/whats-on/chicago-symphony-orchestra-
 klaus-makela/27928
END:VEVENT
END:VCALENDAR
