BEGIN:VCALENDAR
METHOD:PUBLISH
CALSCALE:GREGORIAN
PRODID:Elbphilharmonie
VERSION:2.0
BEGIN:VTIMEZONE
TZID:Europe/Berlin
BEGIN:DAYLIGHT
TZOFFSETFROM:+0100
TZOFFSETTO:+0200
TZNAME:CEST
DTSTART:20200329T010000
RRULE:FREQ=YEARLY;INTERVAL=1;BYDAY=-1SU;BYMONTH=3
END:DAYLIGHT
BEGIN:STANDARD
TZOFFSETFROM:+0200
TZOFFSETTO:+0100
TZNAME:CET
DTSTART:20201025T010000
RRULE:FREQ=YEARLY;INTERVAL=1;BYDAY=-1SU;BYMONTH=10
END:STANDARD
END:VTIMEZONE
BEGIN:VEVENT
DTSTAMP:20260423T164300Z
DTSTART:20261031T170000Z
DTEND:20261031T183000Z
LOCATION:Elbphilharmonie Kleiner Saal
SUMMARY:Charbel Rouhana
DESCRIPTION:Performers\nCharbel Rouhana: oud\nElie Khoury: buzuq\nNadim Ro
 uhana: accordion\, piano\nMakram Aboul Hosn: double bass\nZad Khalife: per
 cussion\n\nProgramme\nDie klangvolle Stimme der Oud -
UID:event28429@Elbphilharmonie.de
URL:https://www.elbphilharmonie.de/en/whats-on/charbel-rouhana/28429
END:VEVENT
END:VCALENDAR
