BEGIN:VCALENDAR
METHOD:PUBLISH
CALSCALE:GREGORIAN
PRODID:Elbphilharmonie
VERSION:2.0
BEGIN:VTIMEZONE
TZID:Europe/Berlin
BEGIN:DAYLIGHT
TZOFFSETFROM:+0100
TZOFFSETTO:+0200
TZNAME:CEST
DTSTART:20200329T010000
RRULE:FREQ=YEARLY;INTERVAL=1;BYDAY=-1SU;BYMONTH=3
END:DAYLIGHT
BEGIN:STANDARD
TZOFFSETFROM:+0200
TZOFFSETTO:+0100
TZNAME:CET
DTSTART:20201025T010000
RRULE:FREQ=YEARLY;INTERVAL=1;BYDAY=-1SU;BYMONTH=10
END:STANDARD
END:VTIMEZONE
BEGIN:VEVENT
DTSTAMP:20260423T155700Z
DTSTART:20270404T180000Z
DTEND:20270404T200000Z
LOCATION:Elbphilharmonie Großer Saal
SUMMARY:Carminho
DESCRIPTION:Performers\nCarminho: vocals\nAndré Dias: portuguese guitar\n
 Flávio Cardoso: guitar\nPedro Geraldes: electric guitar\nTiago Maia: guit
 ar\, bass guitar\nJoão Pimenta Gomes: mellotron\, ondes Martenot\, crista
 l baschet\n\nProgramme\nEu Vou Morrer de Amor ou Resistir
UID:event28396@Elbphilharmonie.de
URL:https://www.elbphilharmonie.de/en/whats-on/carminho/28396
END:VEVENT
END:VCALENDAR
