BEGIN:VCALENDAR
METHOD:PUBLISH
CALSCALE:GREGORIAN
PRODID:Elbphilharmonie
VERSION:2.0
BEGIN:VTIMEZONE
TZID:Europe/Berlin
BEGIN:DAYLIGHT
TZOFFSETFROM:+0100
TZOFFSETTO:+0200
TZNAME:CEST
DTSTART:20200329T010000
RRULE:FREQ=YEARLY;INTERVAL=1;BYDAY=-1SU;BYMONTH=3
END:DAYLIGHT
BEGIN:STANDARD
TZOFFSETFROM:+0200
TZOFFSETTO:+0100
TZNAME:CET
DTSTART:20201025T010000
RRULE:FREQ=YEARLY;INTERVAL=1;BYDAY=-1SU;BYMONTH=10
END:STANDARD
END:VTIMEZONE
BEGIN:VEVENT
DTSTAMP:20260423T152800Z
DTSTART:20261107T190000Z
DTEND:20261107T210000Z
LOCATION:Laeiszhalle Großer Saal
SUMMARY:Capriccio Stravagante / Cappella Mariana / Skip Sempé
DESCRIPTION:Performers\nCapriccio Stravagante: ensemble\nCappella Mariana:
  vocal ensemble\nSkip Sempé: harpsichord and director\n\nProgramme\n»Dou
 lce mémoire – süße Erinnerungen«\nPierre Sandrin\nDoulce mémoire\nD
 iego Ortiz\nRecercadas sobre »Doulce mémoire«\nCipriano de Rore\nMissa 
 Doulce mémoire a 5\nHernando de Cabezón\nDulce memoria\nCipriano de Rore
 \nAncor che col partire / Madrigal\nOrlando di Lasso\nSusanne un jour
UID:event27974@Elbphilharmonie.de
URL:https://www.elbphilharmonie.de/en/whats-on/capriccio-stravagante-cappe
 lla-mariana-skip-sempe/27974
END:VEVENT
END:VCALENDAR
