BEGIN:VCALENDAR
METHOD:PUBLISH
CALSCALE:GREGORIAN
PRODID:Elbphilharmonie
VERSION:2.0
BEGIN:VTIMEZONE
TZID:Europe/Berlin
BEGIN:DAYLIGHT
TZOFFSETFROM:+0100
TZOFFSETTO:+0200
TZNAME:CEST
DTSTART:20200329T010000
RRULE:FREQ=YEARLY;INTERVAL=1;BYDAY=-1SU;BYMONTH=3
END:DAYLIGHT
BEGIN:STANDARD
TZOFFSETFROM:+0200
TZOFFSETTO:+0100
TZNAME:CET
DTSTART:20201025T010000
RRULE:FREQ=YEARLY;INTERVAL=1;BYDAY=-1SU;BYMONTH=10
END:STANDARD
END:VTIMEZONE
BEGIN:VEVENT
DTSTAMP:20260424T011100Z
DTSTART:20270119T183000Z
DTEND:20270119T201500Z
LOCATION:Elbphilharmonie Kleiner Saal
SUMMARY:Camila Mandillo\, soprano
DESCRIPTION:Performers\nCamila Mandillo: soprano\nFilipe Gaio: piano\n\nPr
 ogramme\nTransfigurations\nOlivier Messiaen\nTrois Mélodies\nRuth Schönt
 hal\nArme Erde / aus: Wildunger Liederzyklus\, Band 1 »Ingrids Lieder«\n
 Richard Strauss\nAcht Lieder aus Letzte Blätter op.  10\n– Interval 
 – \nBushra El-Turk\nNeues Werk\nOlivier Messiaen\nChants de terre et de 
 ciel
UID:event28148@Elbphilharmonie.de
URL:https://www.elbphilharmonie.de/en/whats-on/camila-mandillo-soprano/281
 48
END:VEVENT
END:VCALENDAR
