BEGIN:VCALENDAR
METHOD:PUBLISH
CALSCALE:GREGORIAN
PRODID:Elbphilharmonie
VERSION:2.0
BEGIN:VTIMEZONE
TZID:Europe/Berlin
BEGIN:DAYLIGHT
TZOFFSETFROM:+0100
TZOFFSETTO:+0200
TZNAME:CEST
DTSTART:20200329T010000
RRULE:FREQ=YEARLY;INTERVAL=1;BYDAY=-1SU;BYMONTH=3
END:DAYLIGHT
BEGIN:STANDARD
TZOFFSETFROM:+0200
TZOFFSETTO:+0100
TZNAME:CET
DTSTART:20201025T010000
RRULE:FREQ=YEARLY;INTERVAL=1;BYDAY=-1SU;BYMONTH=10
END:STANDARD
END:VTIMEZONE
BEGIN:VEVENT
DTSTAMP:20260423T181800Z
DTSTART:20270405T180000Z
DTEND:20270405T210000Z
LOCATION:Elbphilharmonie Großer Saal
SUMMARY:Budapest Festival Orchestra / Iván Fischer
DESCRIPTION:Performers\nBudapest Festival Orchestra\nThe Pan-European Chor
 us\nMaria Bengtsson: soprano\nOlivia Vermeulen: alto\nAndrew Staples: teno
 r\nHanno Müller-Brachmann: bass\nconductor: Iván Fischer\n\nProgramme\nL
 udwig van Beethoven\nSymphony No. 9 in D minor\, Op. 125
UID:event28407@Elbphilharmonie.de
URL:https://www.elbphilharmonie.de/en/whats-on/budapest-festival-orchestra
 -ivan-fischer/28407
END:VEVENT
END:VCALENDAR
