BEGIN:VCALENDAR
METHOD:PUBLISH
CALSCALE:GREGORIAN
PRODID:Elbphilharmonie
VERSION:2.0
BEGIN:VTIMEZONE
TZID:Europe/Berlin
BEGIN:DAYLIGHT
TZOFFSETFROM:+0100
TZOFFSETTO:+0200
TZNAME:CEST
DTSTART:20200329T010000
RRULE:FREQ=YEARLY;INTERVAL=1;BYDAY=-1SU;BYMONTH=3
END:DAYLIGHT
BEGIN:STANDARD
TZOFFSETFROM:+0200
TZOFFSETTO:+0100
TZNAME:CET
DTSTART:20201025T010000
RRULE:FREQ=YEARLY;INTERVAL=1;BYDAY=-1SU;BYMONTH=10
END:STANDARD
END:VTIMEZONE
BEGIN:VEVENT
DTSTAMP:20260423T115400Z
DTSTART:20261116T190000Z
DTEND:20261116T210000Z
LOCATION:Elbphilharmonie Großer Saal
SUMMARY:Branford Marsalis & Dianne Reeves Celebrate John Coltrane
DESCRIPTION:Performers\nDianne Reeves: vocals\nBranford Marsalis Quartet\n
 Branford Marsalis: saxophone\nJoey Calderazzo: piano\nEric Revis: bass\nJu
 stin Faulkner: drums\n\nProgramme\nBranford Marsalis & Dianne Reeves Celeb
 rate John Coltrane
UID:event27956@Elbphilharmonie.de
URL:https://www.elbphilharmonie.de/en/whats-on/branford-marsalis-dianne-re
 eves-celebrate-john-coltrane/27956
END:VEVENT
END:VCALENDAR
