BEGIN:VCALENDAR
METHOD:PUBLISH
CALSCALE:GREGORIAN
PRODID:Elbphilharmonie
VERSION:2.0
BEGIN:VTIMEZONE
TZID:Europe/Berlin
BEGIN:DAYLIGHT
TZOFFSETFROM:+0100
TZOFFSETTO:+0200
TZNAME:CEST
DTSTART:20200329T010000
RRULE:FREQ=YEARLY;INTERVAL=1;BYDAY=-1SU;BYMONTH=3
END:DAYLIGHT
BEGIN:STANDARD
TZOFFSETFROM:+0200
TZOFFSETTO:+0100
TZNAME:CET
DTSTART:20201025T010000
RRULE:FREQ=YEARLY;INTERVAL=1;BYDAY=-1SU;BYMONTH=10
END:STANDARD
END:VTIMEZONE
BEGIN:VEVENT
DTSTAMP:20260424T011000Z
DTSTART:20270317T190000Z
DTEND:20270317T220000Z
LOCATION:Elbphilharmonie Großer Saal
SUMMARY:Boston Symphony Orchestra / Andris Nelsons
DESCRIPTION:Performers\nBoston Symphony Orchestra\nconductor: Andris Nelso
 ns\n\nProgramme\nLudwig van Beethoven\nSymphony No. 5 in C minor\, Op. 67\
 n– Interval – \nIgor Strawinsky\nL’oiseau de feu (The Firebird) / Ba
 llet in Two Scenes
UID:event27934@Elbphilharmonie.de
URL:https://www.elbphilharmonie.de/en/whats-on/boston-symphony-orchestra-a
 ndris-nelsons/27934
END:VEVENT
END:VCALENDAR
