BEGIN:VCALENDAR
METHOD:PUBLISH
CALSCALE:GREGORIAN
PRODID:Elbphilharmonie
VERSION:2.0
BEGIN:VTIMEZONE
TZID:Europe/Berlin
BEGIN:DAYLIGHT
TZOFFSETFROM:+0100
TZOFFSETTO:+0200
TZNAME:CEST
DTSTART:20200329T010000
RRULE:FREQ=YEARLY;INTERVAL=1;BYDAY=-1SU;BYMONTH=3
END:DAYLIGHT
BEGIN:STANDARD
TZOFFSETFROM:+0200
TZOFFSETTO:+0100
TZNAME:CET
DTSTART:20201025T010000
RRULE:FREQ=YEARLY;INTERVAL=1;BYDAY=-1SU;BYMONTH=10
END:STANDARD
END:VTIMEZONE
BEGIN:VEVENT
DTSTAMP:20260423T183100Z
DTSTART:20270423T183000Z
DTEND:20270423T200000Z
LOCATION:Elbphilharmonie Kleiner Saal
SUMMARY:Betti Kruse
DESCRIPTION:Performers\nBetti Kruse\nTaco van Hettinga: keyboard\nAlex Eck
 ert: guitar\nCharlotte Ortmann: flute\, saxophone\nPhilipp Püschel: fluge
 lhorn\nKatharina Lattke: drums\nSonja Glass: bass\nLena Geue: voice\, guit
 ar\, synthesizer\, piano\, violin\n
UID:event28427@Elbphilharmonie.de
URL:https://www.elbphilharmonie.de/en/whats-on/betti-kruse/28427
END:VEVENT
END:VCALENDAR
