BEGIN:VCALENDAR
METHOD:PUBLISH
CALSCALE:GREGORIAN
PRODID:Elbphilharmonie
VERSION:2.0
BEGIN:VTIMEZONE
TZID:Europe/Berlin
BEGIN:DAYLIGHT
TZOFFSETFROM:+0100
TZOFFSETTO:+0200
TZNAME:CEST
DTSTART:20200329T010000
RRULE:FREQ=YEARLY;INTERVAL=1;BYDAY=-1SU;BYMONTH=3
END:DAYLIGHT
BEGIN:STANDARD
TZOFFSETFROM:+0200
TZOFFSETTO:+0100
TZNAME:CET
DTSTART:20201025T010000
RRULE:FREQ=YEARLY;INTERVAL=1;BYDAY=-1SU;BYMONTH=10
END:STANDARD
END:VTIMEZONE
BEGIN:VEVENT
DTSTAMP:20260423T115500Z
DTSTART:20261219T190000Z
DTEND:20261219T220000Z
LOCATION:Elbphilharmonie Großer Saal
SUMMARY:Berlioz: L’enfance du Christ / Robin Ticciati
DESCRIPTION:Performers\nChamber Orchestra of Europe\nNDR Vokalensemble\nMa
 rianne Crebassa: Sainte Marie\nCyrille Dubois: Un récitant\, Un centurion
 \nStéphane Degout: Saint Joseph\, Polydorus\nWilliam Thomas: Hérode\, Un
  père de famille\nconductor: Robin Ticciati\n\nProgramme\nHector Berlioz\
 nL’enfance du Christ / Trilogie sacrée\, Op. 25\nAufführung in franzö
 sischer Sprache mit deutschen Übertiteln
UID:event28390@Elbphilharmonie.de
URL:https://www.elbphilharmonie.de/en/whats-on/berlioz-lenfance-du-christ-
 robin-ticciati/28390
END:VEVENT
END:VCALENDAR
