BEGIN:VCALENDAR
METHOD:PUBLISH
CALSCALE:GREGORIAN
PRODID:Elbphilharmonie
VERSION:2.0
BEGIN:VTIMEZONE
TZID:Europe/Berlin
BEGIN:DAYLIGHT
TZOFFSETFROM:+0100
TZOFFSETTO:+0200
TZNAME:CEST
DTSTART:20200329T010000
RRULE:FREQ=YEARLY;INTERVAL=1;BYDAY=-1SU;BYMONTH=3
END:DAYLIGHT
BEGIN:STANDARD
TZOFFSETFROM:+0200
TZOFFSETTO:+0100
TZNAME:CET
DTSTART:20201025T010000
RRULE:FREQ=YEARLY;INTERVAL=1;BYDAY=-1SU;BYMONTH=10
END:STANDARD
END:VTIMEZONE
BEGIN:VEVENT
DTSTAMP:20260423T214000Z
DTSTART:20270228T183000Z
DTEND:20270228T203000Z
LOCATION:Elbphilharmonie Kleiner Saal
SUMMARY:Berliner Solisten-Sextett
DESCRIPTION:Performers\nBerliner Solisten-Sextett\nMirijam Contzen: violin
 \nLatica Honda-Rosenberg: violin\nNora Chastain: violin\nHartmut Rohde: vi
 ola\nJens Peter Maintz: violoncello\nKonstantin Heidrich: violoncello\n\nP
 rogramme\nRichard Strauss\nStreichsextett / aus der Oper »Capriccio« op.
  85\nErich Wolfgang Korngold\nStreichsextett D-Dur op. 10\n– Interval 
 – \nJohannes Brahms\nStreichsextett Nr. 2 G-Dur op. 36
UID:event28002@Elbphilharmonie.de
URL:https://www.elbphilharmonie.de/en/whats-on/berliner-solisten-sextett/2
 8002
END:VEVENT
END:VCALENDAR
