BEGIN:VCALENDAR
METHOD:PUBLISH
CALSCALE:GREGORIAN
PRODID:Elbphilharmonie
VERSION:2.0
BEGIN:VTIMEZONE
TZID:Europe/Berlin
BEGIN:DAYLIGHT
TZOFFSETFROM:+0100
TZOFFSETTO:+0200
TZNAME:CEST
DTSTART:20200329T010000
RRULE:FREQ=YEARLY;INTERVAL=1;BYDAY=-1SU;BYMONTH=3
END:DAYLIGHT
BEGIN:STANDARD
TZOFFSETFROM:+0200
TZOFFSETTO:+0100
TZNAME:CET
DTSTART:20201025T010000
RRULE:FREQ=YEARLY;INTERVAL=1;BYDAY=-1SU;BYMONTH=10
END:STANDARD
END:VTIMEZONE
BEGIN:VEVENT
DTSTAMP:20260423T181700Z
DTSTART:20270205T190000Z
DTEND:20270205T220000Z
LOCATION:Laeiszhalle Kleiner Saal
SUMMARY:Benjamin Appl / Jerusalem String Quartet
DESCRIPTION:Performers\nBenjamin Appl: baritone\nJerusalem Quartet\nAlexan
 der Pavlovsky: violin\nSergei Bresler: violin\nOri Kam: viola\nKyril Zlotn
 ikov: violoncello\n\nProgramme\nRobert Schumann\nBelsazar op. 57\nDein An
 gesicht / from: Fünf Lieder und Gesänge\, Op. 127\nMit Myrthen und Rosen
  / from: Liederkreis\, Op. 24\nJohannes Brahms\nString Quartet in C minor\
 , Op. 51/1 / aus: Streichquartett c-Moll op. 51/1\nGustav Mahler\nLieder 
 eines fahrenden Gesellen (Songs of a Wayfarer)\n– Interval – \nSamuel 
 Barber\nDover Beach op. 3\nAnton Webern\nLangsamer Satz für Streichquart
 ett\nDrei Stücke für Streichquartett\nArnold Schönberg\nGigerlette / au
 s: Brettl-Lieder\nFritz Kreisler\nOld Refrain für Violine und Klavier\nWe
 rner Richard Heymann\nIrgendwo auf der Welt / aus dem Film »Ein blonder T
 raum« (Regie: Paul Martin\, D 1932)
UID:event28000@Elbphilharmonie.de
URL:https://www.elbphilharmonie.de/en/whats-on/benjamin-appl-jerusalem-str
 ing-quartet/28000
END:VEVENT
END:VCALENDAR
