BEGIN:VCALENDAR
METHOD:PUBLISH
CALSCALE:GREGORIAN
PRODID:Elbphilharmonie
VERSION:2.0
BEGIN:VTIMEZONE
TZID:Europe/Berlin
BEGIN:DAYLIGHT
TZOFFSETFROM:+0100
TZOFFSETTO:+0200
TZNAME:CEST
DTSTART:20200329T010000
RRULE:FREQ=YEARLY;INTERVAL=1;BYDAY=-1SU;BYMONTH=3
END:DAYLIGHT
BEGIN:STANDARD
TZOFFSETFROM:+0200
TZOFFSETTO:+0100
TZNAME:CET
DTSTART:20201025T010000
RRULE:FREQ=YEARLY;INTERVAL=1;BYDAY=-1SU;BYMONTH=10
END:STANDARD
END:VTIMEZONE
BEGIN:VEVENT
DTSTAMP:20260423T181800Z
DTSTART:20270514T173000Z
DTEND:20270514T200000Z
LOCATION:Elbphilharmonie Kleiner Saal
SUMMARY:Belcea Quartet
DESCRIPTION:Performers\nBelcea Quartet\nCorina Belcea: violin\nSuyeon Kang
 : violin\nKrzysztof Chorzelski: viola\nAntoine Lederlin: violoncello\n\nPr
 ogramme\nLudwig van Beethoven\nStreichquartett D-Dur op. 18/3\nString Qua
 rtet in F minor\, Op. 95 »Quartetto serioso«\n– Interval – \nLudwig 
 van Beethoven\nStreichquartett e-Moll op. 59/2
UID:event28040@Elbphilharmonie.de
URL:https://www.elbphilharmonie.de/en/whats-on/belcea-quartet/28040
END:VEVENT
END:VCALENDAR
