BEGIN:VCALENDAR
METHOD:PUBLISH
CALSCALE:GREGORIAN
PRODID:Elbphilharmonie
VERSION:2.0
BEGIN:VTIMEZONE
TZID:Europe/Berlin
BEGIN:DAYLIGHT
TZOFFSETFROM:+0100
TZOFFSETTO:+0200
TZNAME:CEST
DTSTART:20200329T010000
RRULE:FREQ=YEARLY;INTERVAL=1;BYDAY=-1SU;BYMONTH=3
END:DAYLIGHT
BEGIN:STANDARD
TZOFFSETFROM:+0200
TZOFFSETTO:+0100
TZNAME:CET
DTSTART:20201025T010000
RRULE:FREQ=YEARLY;INTERVAL=1;BYDAY=-1SU;BYMONTH=10
END:STANDARD
END:VTIMEZONE
BEGIN:VEVENT
DTSTAMP:20260423T195500Z
DTSTART:20270308T190000Z
DTEND:20270308T220000Z
LOCATION:Elbphilharmonie Großer Saal
SUMMARY:Bamberg Symphony / María Dueñas / Jakub Hrůša
DESCRIPTION:Performers\nBamberger Symphoniker\nMaría Dueñas: violin\ncon
 ductor: Jakub Hrůša\n\nProgramme\nBohuslav Martinů\nSymphony No. 6\, H 
 343 »Fantaisies symphoniques«\n– Interval – \nSergej Prokofjew\nKonz
 ert für Violine und Orchester Nr. 1 D-Dur op. 19\nLudwig van Beethoven\n
 Symphony No. 8 in F major\, Op. 93
UID:event27935@Elbphilharmonie.de
URL:https://www.elbphilharmonie.de/en/whats-on/bamberg-symphony-maria-duen
 as-jakub-hrusa/27935
END:VEVENT
END:VCALENDAR
