BEGIN:VCALENDAR
METHOD:PUBLISH
CALSCALE:GREGORIAN
PRODID:Elbphilharmonie
VERSION:2.0
BEGIN:VTIMEZONE
TZID:Europe/Berlin
BEGIN:DAYLIGHT
TZOFFSETFROM:+0100
TZOFFSETTO:+0200
TZNAME:CEST
DTSTART:20200329T010000
RRULE:FREQ=YEARLY;INTERVAL=1;BYDAY=-1SU;BYMONTH=3
END:DAYLIGHT
BEGIN:STANDARD
TZOFFSETFROM:+0200
TZOFFSETTO:+0100
TZNAME:CET
DTSTART:20201025T010000
RRULE:FREQ=YEARLY;INTERVAL=1;BYDAY=-1SU;BYMONTH=10
END:STANDARD
END:VTIMEZONE
BEGIN:VEVENT
DTSTAMP:20260423T164300Z
DTSTART:20261209T190000Z
DTEND:20261209T210000Z
LOCATION:Elbphilharmonie Großer Saal
SUMMARY:Bach: Weihnachtsoratorium
DESCRIPTION:Performers\nGaechinger Cantorey\nCatalina Bertucci: soprano\nB
 enno Schachtner: countertenor\nRaphael Höhn: tenor\nTobias Berndt: bass\n
 director: Hans-Christoph Rademann\n\nProgramme\nJohann Sebastian Bach\nWei
 hnachtsoratorium BWV 248\, Teil I: »Jauchzet\, frohlocket\, auf\, preiset
  die Tage«\nSüßer Trost\, mein Jesus kömmt / Arie für Sopran aus »S
 üßer Trost\, mein Jesus kömmt« BWV 151\n– Interval – \nJohann Seba
 stian Bach\nUnser Mund sei voll Lachens\, BWV 110\nWeihnachtsoratorium BWV
  248\, Teil III: »Herrscher des Himmels\, erhöre das Lallen«
UID:event28249@Elbphilharmonie.de
URL:https://www.elbphilharmonie.de/en/whats-on/bach-weihnachtsoratorium/28
 249
END:VEVENT
END:VCALENDAR
