BEGIN:VCALENDAR
METHOD:PUBLISH
CALSCALE:GREGORIAN
PRODID:Elbphilharmonie
VERSION:2.0
BEGIN:VTIMEZONE
TZID:Europe/Berlin
BEGIN:DAYLIGHT
TZOFFSETFROM:+0100
TZOFFSETTO:+0200
TZNAME:CEST
DTSTART:20200329T010000
RRULE:FREQ=YEARLY;INTERVAL=1;BYDAY=-1SU;BYMONTH=3
END:DAYLIGHT
BEGIN:STANDARD
TZOFFSETFROM:+0200
TZOFFSETTO:+0100
TZNAME:CET
DTSTART:20201025T010000
RRULE:FREQ=YEARLY;INTERVAL=1;BYDAY=-1SU;BYMONTH=10
END:STANDARD
END:VTIMEZONE
BEGIN:VEVENT
DTSTAMP:20260423T152800Z
DTSTART:20270320T190000Z
DTEND:20270320T220000Z
LOCATION:Elbphilharmonie Großer Saal
SUMMARY:Bach: St Matthew Passion / Sir Simon Rattle
DESCRIPTION:Performers\nFreiburger Barockorchester\nZürcher Sing-Akademie
 \nReinoud Van Mechelen: tenor\nRoderick Williams: baritone\nMiriam Feuersi
 nger: soprano\nMagdalena Kožená: mezzo-soprano\nconductor: Sir Simon Rat
 tle\n\nProgramme\nJohann Sebastian Bach\nSt Matthew Passion\, BWV 244
UID:event28389@Elbphilharmonie.de
URL:https://www.elbphilharmonie.de/en/whats-on/bach-st-matthew-passion-sir
 -simon-rattle/28389
END:VEVENT
END:VCALENDAR
