BEGIN:VCALENDAR
METHOD:PUBLISH
CALSCALE:GREGORIAN
PRODID:Elbphilharmonie
VERSION:2.0
BEGIN:VTIMEZONE
TZID:Europe/Berlin
BEGIN:DAYLIGHT
TZOFFSETFROM:+0100
TZOFFSETTO:+0200
TZNAME:CEST
DTSTART:20200329T010000
RRULE:FREQ=YEARLY;INTERVAL=1;BYDAY=-1SU;BYMONTH=3
END:DAYLIGHT
BEGIN:STANDARD
TZOFFSETFROM:+0200
TZOFFSETTO:+0100
TZNAME:CET
DTSTART:20201025T010000
RRULE:FREQ=YEARLY;INTERVAL=1;BYDAY=-1SU;BYMONTH=10
END:STANDARD
END:VTIMEZONE
BEGIN:VEVENT
DTSTAMP:20260423T151300Z
DTSTART:20270118T183000Z
DTEND:20270118T201500Z
LOCATION:Elbphilharmonie Kleiner Saal
SUMMARY:Ava Bahari\, violin
DESCRIPTION:Performers\nAva Bahari: violin\nNathanaël Gouin: piano\n\nPro
 gramme\nIgor Strawinsky\nDivertimento / from: Le baiser de la fée (versio
 n for violin and piano)\nElfrida Andrée\nZwei Romanzen für Violine und K
 lavier\nAnders Hillborg\nNeues Werk\n– Interval – \nLudwig van Beethov
 en\nSonata for Violin and Piano in A major\, Op. 47 »Kreutzer Sonata«
UID:event28079@Elbphilharmonie.de
URL:https://www.elbphilharmonie.de/en/whats-on/ava-bahari-violin/28079
END:VEVENT
END:VCALENDAR
