BEGIN:VCALENDAR
METHOD:PUBLISH
CALSCALE:GREGORIAN
PRODID:Elbphilharmonie
VERSION:2.0
BEGIN:VTIMEZONE
TZID:Europe/Berlin
BEGIN:DAYLIGHT
TZOFFSETFROM:+0100
TZOFFSETTO:+0200
TZNAME:CEST
DTSTART:20200329T010000
RRULE:FREQ=YEARLY;INTERVAL=1;BYDAY=-1SU;BYMONTH=3
END:DAYLIGHT
BEGIN:STANDARD
TZOFFSETFROM:+0200
TZOFFSETTO:+0100
TZNAME:CET
DTSTART:20201025T010000
RRULE:FREQ=YEARLY;INTERVAL=1;BYDAY=-1SU;BYMONTH=10
END:STANDARD
END:VTIMEZONE
BEGIN:VEVENT
DTSTAMP:20260423T164500Z
DTSTART:20270425T090000Z
DTEND:20270425T111500Z
LOCATION:Elbphilharmonie Großer Saal
SUMMARY:Aurel Dawidiuk\, organ
DESCRIPTION:Performers\nAurel Dawidiuk: organ\n\nProgramme\nJohann Sebasti
 an Bach\nToccata and Fugue in D minor\, BWV 565\nZsigmond Szathmáry\nB-A-
 C-H »Hommage à ...«\nFranz Liszt\nFantasy and Fugue on the Theme B-A-C-
 H\, S 260\n– Interval – \nCharles Tournemire / Maurice Duruflé\nImpro
 visation über »Te Deum«\nJohann Sebastian Bach / Maurice Duruflé\nErt
 öt uns durch dein’ Güte / aus: Jesus nahm zu sich die Zwölfe BWV 22\n
 César Franck\nChoral Nr. 3 a-Moll FWV 40\nJohann Sebastian Bach / Maurice
  Duruflé\nJesus bleibet meine Freude / aus: Herz und Mund und Tat und Leb
 en BWV 147\nCharles Tournemire / Maurice Duruflé\nImprovisation über »V
 ictimae Paschali Laudes«
UID:event28142@Elbphilharmonie.de
URL:https://www.elbphilharmonie.de/en/whats-on/aurel-dawidiuk-organ/28142
END:VEVENT
END:VCALENDAR
