BEGIN:VCALENDAR
METHOD:PUBLISH
CALSCALE:GREGORIAN
PRODID:Elbphilharmonie
VERSION:2.0
BEGIN:VTIMEZONE
TZID:Europe/Berlin
BEGIN:DAYLIGHT
TZOFFSETFROM:+0100
TZOFFSETTO:+0200
TZNAME:CEST
DTSTART:20200329T010000
RRULE:FREQ=YEARLY;INTERVAL=1;BYDAY=-1SU;BYMONTH=3
END:DAYLIGHT
BEGIN:STANDARD
TZOFFSETFROM:+0200
TZOFFSETTO:+0100
TZNAME:CET
DTSTART:20201025T010000
RRULE:FREQ=YEARLY;INTERVAL=1;BYDAY=-1SU;BYMONTH=10
END:STANDARD
END:VTIMEZONE
BEGIN:VEVENT
DTSTAMP:20260423T200800Z
DTSTART:20270510T180000Z
DTEND:20270510T203000Z
LOCATION:Laeiszhalle Kleiner Saal
SUMMARY:Augustin Hadelich / Marie-Elisabeth Hecker / Martin Helmchen
DESCRIPTION:Performers\nAugustin Hadelich: violin\nMarie-Elisabeth Hecker:
  violoncello\nMartin Helmchen: piano\n\nProgramme\nLudwig van Beethoven\nS
 onata for Violoncello and Piano in A major\, Op. 69\nZoltán Kodály\nDuo 
 für Violine und Violoncello op. 7\n– Interval – \nRobert Schumann\nP
 iano Trio No. 1 in D minor\, Op. 63
UID:event28147@Elbphilharmonie.de
URL:https://www.elbphilharmonie.de/en/whats-on/augustin-hadelich-marie-eli
 sabeth-hecker-martin-helmchen/28147
END:VEVENT
END:VCALENDAR
