BEGIN:VCALENDAR
METHOD:PUBLISH
CALSCALE:GREGORIAN
PRODID:Elbphilharmonie
VERSION:2.0
BEGIN:VTIMEZONE
TZID:Europe/Berlin
BEGIN:DAYLIGHT
TZOFFSETFROM:+0100
TZOFFSETTO:+0200
TZNAME:CEST
DTSTART:20200329T010000
RRULE:FREQ=YEARLY;INTERVAL=1;BYDAY=-1SU;BYMONTH=3
END:DAYLIGHT
BEGIN:STANDARD
TZOFFSETFROM:+0200
TZOFFSETTO:+0100
TZNAME:CET
DTSTART:20201025T010000
RRULE:FREQ=YEARLY;INTERVAL=1;BYDAY=-1SU;BYMONTH=10
END:STANDARD
END:VTIMEZONE
BEGIN:VEVENT
DTSTAMP:20260423T145800Z
DTSTART:20270227T183000Z
DTEND:20270227T203000Z
LOCATION:Elbphilharmonie Kleiner Saal
SUMMARY:Arsenii Moon / Piano Recital
DESCRIPTION:Performers\nArsenii Moon: piano\n\nProgramme\nDomenico Scarlat
 ti\nSonate C-Dur K 159\nAlexander Skrjabin\nPrélude C-Dur op. 11/1\nDome
 nico Scarlatti\nSonate a-Moll K 109\nAlexander Skrjabin\nPrélude a-Moll o
 p. 11/2\nDomenico Scarlatti\nSonate d-Moll K 444\nAlexander Skrjabin\nPr
 élude fis-Moll op. 11/8\nDomenico Scarlatti\nSonata in B minor\, K 27\nA
 lexander Skrjabin\nPrélude es-Moll op. 11/14\nPrélude Des-Dur op. 11/1
 5\nDomenico Scarlatti\nSonate f-Moll K 239\nAlexander Skrjabin\nPrélude E
 s-Dur op. 11/19\nDomenico Scarlatti\nSonate g-Moll K 43\nAlexander Skrjab
 in\nPrélude e-Moll op. 11/4\nDomenico Scarlatti\nSonate d-Moll K 9\nAlex
 ander Skrjabin\nPrélude d-Moll op. 11/24
UID:event28038@Elbphilharmonie.de
URL:https://www.elbphilharmonie.de/en/whats-on/arsenii-moon-piano-recital/
 28038
END:VEVENT
END:VCALENDAR
