BEGIN:VCALENDAR
METHOD:PUBLISH
CALSCALE:GREGORIAN
PRODID:Elbphilharmonie
VERSION:2.0
BEGIN:VTIMEZONE
TZID:Europe/Berlin
BEGIN:DAYLIGHT
TZOFFSETFROM:+0100
TZOFFSETTO:+0200
TZNAME:CEST
DTSTART:20200329T010000
RRULE:FREQ=YEARLY;INTERVAL=1;BYDAY=-1SU;BYMONTH=3
END:DAYLIGHT
BEGIN:STANDARD
TZOFFSETFROM:+0200
TZOFFSETTO:+0100
TZNAME:CET
DTSTART:20201025T010000
RRULE:FREQ=YEARLY;INTERVAL=1;BYDAY=-1SU;BYMONTH=10
END:STANDARD
END:VTIMEZONE
BEGIN:VEVENT
DTSTAMP:20260423T142600Z
DTSTART:20270330T180000Z
DTEND:20270330T200000Z
LOCATION:Elbphilharmonie Großer Saal
SUMMARY:Angélique Kidjo / Youssou NDour
DESCRIPTION:Performers\nYoussou NDour: vocals\nAngélique Kidjo: vocals\nM
 ustapha Gaye: guitar\nThierry Vaton: keyboard\nRody Cereyon: bass\nBabacar
  Faye: percussion\nDavid Donatien: percussion\nGregory Louis: drums\n\nPro
 gramme\n»Chimes of Freedom«
UID:event28395@Elbphilharmonie.de
URL:https://www.elbphilharmonie.de/en/whats-on/angelique-kidjo-youssou-ndo
 ur/28395
END:VEVENT
END:VCALENDAR
