BEGIN:VCALENDAR
METHOD:PUBLISH
CALSCALE:GREGORIAN
PRODID:Elbphilharmonie
VERSION:2.0
BEGIN:VTIMEZONE
TZID:Europe/Berlin
BEGIN:DAYLIGHT
TZOFFSETFROM:+0100
TZOFFSETTO:+0200
TZNAME:CEST
DTSTART:20200329T010000
RRULE:FREQ=YEARLY;INTERVAL=1;BYDAY=-1SU;BYMONTH=3
END:DAYLIGHT
BEGIN:STANDARD
TZOFFSETFROM:+0200
TZOFFSETTO:+0100
TZNAME:CET
DTSTART:20201025T010000
RRULE:FREQ=YEARLY;INTERVAL=1;BYDAY=-1SU;BYMONTH=10
END:STANDARD
END:VTIMEZONE
BEGIN:VEVENT
DTSTAMP:20260423T121100Z
DTSTART:20270311T180000Z
DTEND:20270311T190000Z
LOCATION:Elbphilharmonie Kleiner Saal
SUMMARY:Anastasia Kobekina & Sasha Waltz
DESCRIPTION:Performers\nAnastasia Kobekina: violoncello\nSasha Waltz: danc
 e\n\nProgramme\nBach Cello Dance
UID:event28656@Elbphilharmonie.de
URL:https://www.elbphilharmonie.de/en/whats-on/anastasia-kobekina-sasha-wa
 ltz/28656
END:VEVENT
END:VCALENDAR
