BEGIN:VCALENDAR
METHOD:PUBLISH
CALSCALE:GREGORIAN
PRODID:Elbphilharmonie
VERSION:2.0
BEGIN:VTIMEZONE
TZID:Europe/Berlin
BEGIN:DAYLIGHT
TZOFFSETFROM:+0100
TZOFFSETTO:+0200
TZNAME:CEST
DTSTART:20200329T010000
RRULE:FREQ=YEARLY;INTERVAL=1;BYDAY=-1SU;BYMONTH=3
END:DAYLIGHT
BEGIN:STANDARD
TZOFFSETFROM:+0200
TZOFFSETTO:+0100
TZNAME:CET
DTSTART:20201025T010000
RRULE:FREQ=YEARLY;INTERVAL=1;BYDAY=-1SU;BYMONTH=10
END:STANDARD
END:VTIMEZONE
BEGIN:VEVENT
DTSTAMP:20260420T095900Z
DTSTART:20261201T183000Z
DTEND:20261201T203000Z
LOCATION:Elbphilharmonie Kleiner Saal
SUMMARY:amarcord
DESCRIPTION:Performers\namarcord\nWolfram Lattke: tenor\nRobert Pohlers: t
 enor\nFrank Ozimek: baritone\nDaniel Knauft: bass\nHolger Krause: bass\n
UID:event28257@Elbphilharmonie.de
URL:https://www.elbphilharmonie.de/en/whats-on/amarcord/28257
END:VEVENT
END:VCALENDAR
