BEGIN:VCALENDAR
METHOD:PUBLISH
CALSCALE:GREGORIAN
PRODID:Elbphilharmonie
VERSION:2.0
BEGIN:VTIMEZONE
TZID:Europe/Berlin
BEGIN:DAYLIGHT
TZOFFSETFROM:+0100
TZOFFSETTO:+0200
TZNAME:CEST
DTSTART:20200329T010000
RRULE:FREQ=YEARLY;INTERVAL=1;BYDAY=-1SU;BYMONTH=3
END:DAYLIGHT
BEGIN:STANDARD
TZOFFSETFROM:+0200
TZOFFSETTO:+0100
TZNAME:CET
DTSTART:20201025T010000
RRULE:FREQ=YEARLY;INTERVAL=1;BYDAY=-1SU;BYMONTH=10
END:STANDARD
END:VTIMEZONE
BEGIN:VEVENT
DTSTAMP:20260423T145800Z
DTSTART:20270417T173000Z
DTEND:20270417T193000Z
LOCATION:Elbphilharmonie Kleiner Saal
SUMMARY:Alexandra Dovgan / Piano Recital
DESCRIPTION:Performers\nAlexandra Dovgan: piano\n\nProgramme\nLudwig van B
 eethoven\nSonata for Piano in B-flat major\, Op. 106 »Hammerklavier-Sonat
 a«\n– Interval – \nFrédéric Chopin\nDeux Nocturnes op. 27\nScherzo
  Nr. 4 E-Dur op. 54\nSergej Rachmaninow\nSonata for Piano No. 2 in B-flat
  minor\, Op. 36
UID:event28019@Elbphilharmonie.de
URL:https://www.elbphilharmonie.de/en/whats-on/alexandra-dovgan-piano-reci
 tal/28019
END:VEVENT
END:VCALENDAR
