BEGIN:VCALENDAR
METHOD:PUBLISH
CALSCALE:GREGORIAN
PRODID:Elbphilharmonie
VERSION:2.0
BEGIN:VTIMEZONE
TZID:Europe/Berlin
BEGIN:DAYLIGHT
TZOFFSETFROM:+0100
TZOFFSETTO:+0200
TZNAME:CEST
DTSTART:20200329T010000
RRULE:FREQ=YEARLY;INTERVAL=1;BYDAY=-1SU;BYMONTH=3
END:DAYLIGHT
BEGIN:STANDARD
TZOFFSETFROM:+0200
TZOFFSETTO:+0100
TZNAME:CET
DTSTART:20201025T010000
RRULE:FREQ=YEARLY;INTERVAL=1;BYDAY=-1SU;BYMONTH=10
END:STANDARD
END:VTIMEZONE
BEGIN:VEVENT
DTSTAMP:20260423T213900Z
DTSTART:20261114T193000Z
DTEND:20261114T201000Z
LOCATION:Elbphilharmonie Kleiner Saal
SUMMARY:Alessandro Cortini
DESCRIPTION:Performers\nAlessandro Cortini: live electronics\n\nProgramme\
 nNATI INFINITI
UID:event27969@Elbphilharmonie.de
URL:https://www.elbphilharmonie.de/en/whats-on/alessandro-cortini/27969
END:VEVENT
END:VCALENDAR
