BEGIN:VCALENDAR
METHOD:PUBLISH
CALSCALE:GREGORIAN
PRODID:Elbphilharmonie
VERSION:2.0
BEGIN:VTIMEZONE
TZID:Europe/Berlin
BEGIN:DAYLIGHT
TZOFFSETFROM:+0100
TZOFFSETTO:+0200
TZNAME:CEST
DTSTART:20200329T010000
RRULE:FREQ=YEARLY;INTERVAL=1;BYDAY=-1SU;BYMONTH=3
END:DAYLIGHT
BEGIN:STANDARD
TZOFFSETFROM:+0200
TZOFFSETTO:+0100
TZNAME:CET
DTSTART:20201025T010000
RRULE:FREQ=YEARLY;INTERVAL=1;BYDAY=-1SU;BYMONTH=10
END:STANDARD
END:VTIMEZONE
BEGIN:VEVENT
DTSTAMP:20260423T184000Z
DTSTART:20270211T190000Z
DTEND:20270211T204500Z
LOCATION:Laeiszhalle Kleiner Saal
SUMMARY:Aaron Diehl Trio
DESCRIPTION:Performers\nAaron Diehl Trio\nAaron Diehl: piano\nDavid Wong: 
 bass\nAaron Kimmel: drums\n
UID:event28012@Elbphilharmonie.de
URL:https://www.elbphilharmonie.de/en/whats-on/aaron-diehl-trio/28012
END:VEVENT
END:VCALENDAR
