BEGIN:VCALENDAR
METHOD:PUBLISH
CALSCALE:GREGORIAN
PRODID:Elbphilharmonie
VERSION:2.0
BEGIN:VTIMEZONE
TZID:Europe/Berlin
BEGIN:DAYLIGHT
TZOFFSETFROM:+0100
TZOFFSETTO:+0200
TZNAME:CEST
DTSTART:20200329T010000
RRULE:FREQ=YEARLY;INTERVAL=1;BYDAY=-1SU;BYMONTH=3
END:DAYLIGHT
BEGIN:STANDARD
TZOFFSETFROM:+0200
TZOFFSETTO:+0100
TZNAME:CET
DTSTART:20201025T010000
RRULE:FREQ=YEARLY;INTERVAL=1;BYDAY=-1SU;BYMONTH=10
END:STANDARD
END:VTIMEZONE
BEGIN:VEVENT
DTSTAMP:20260423T115400Z
DTSTART:20261201T190000Z
DTEND:20261201T211000Z
LOCATION:Elbphilharmonie Großer Saal
SUMMARY:Yunchan Lim / Klavierabend
DESCRIPTION:Besetzung\nYunchan Lim: Klavier\n\nProgramm\nWolfgang Amadeus 
 Mozart\nSonate für Klavier Es-Dur KV 189g\nSonate für Klavier B-Dur KV 3
 15c\n– Pause – \nWolfgang Amadeus Mozart\nSonate für Klavier D-Dur KV
  284c\nSonate für Klavier C-Dur KV 284b\nSonate für Klavier A-Dur KV 300
 i
UID:event28167@Elbphilharmonie.de
URL:https://www.elbphilharmonie.de/de/programm/yunchan-lim-klavierabend/28
 167
END:VEVENT
END:VCALENDAR
