BEGIN:VCALENDAR
METHOD:PUBLISH
CALSCALE:GREGORIAN
PRODID:Elbphilharmonie
VERSION:2.0
BEGIN:VTIMEZONE
TZID:Europe/Berlin
BEGIN:DAYLIGHT
TZOFFSETFROM:+0100
TZOFFSETTO:+0200
TZNAME:CEST
DTSTART:20200329T010000
RRULE:FREQ=YEARLY;INTERVAL=1;BYDAY=-1SU;BYMONTH=3
END:DAYLIGHT
BEGIN:STANDARD
TZOFFSETFROM:+0200
TZOFFSETTO:+0100
TZNAME:CET
DTSTART:20201025T010000
RRULE:FREQ=YEARLY;INTERVAL=1;BYDAY=-1SU;BYMONTH=10
END:STANDARD
END:VTIMEZONE
BEGIN:VEVENT
DTSTAMP:20260424T154900Z
DTSTART:20270613T120000Z
DTEND:20270613T133000Z
LOCATION:Elbphilharmonie Kaistudio 6
SUMMARY:Workshop: Klassiko Spezial
DESCRIPTION:
UID:event28636@Elbphilharmonie.de
URL:https://www.elbphilharmonie.de/de/programm/workshop-klassiko-spezial/2
 8636
END:VEVENT
END:VCALENDAR
