BEGIN:VCALENDAR
METHOD:PUBLISH
CALSCALE:GREGORIAN
PRODID:Elbphilharmonie
VERSION:2.0
BEGIN:VTIMEZONE
TZID:Europe/Berlin
BEGIN:DAYLIGHT
TZOFFSETFROM:+0100
TZOFFSETTO:+0200
TZNAME:CEST
DTSTART:20200329T010000
RRULE:FREQ=YEARLY;INTERVAL=1;BYDAY=-1SU;BYMONTH=3
END:DAYLIGHT
BEGIN:STANDARD
TZOFFSETFROM:+0200
TZOFFSETTO:+0100
TZNAME:CET
DTSTART:20201025T010000
RRULE:FREQ=YEARLY;INTERVAL=1;BYDAY=-1SU;BYMONTH=10
END:STANDARD
END:VTIMEZONE
BEGIN:VEVENT
DTSTAMP:20260423T144200Z
DTSTART:20260926T180000Z
DTEND:20260926T200000Z
LOCATION:Elbphilharmonie Großer Saal
SUMMARY:West-Eastern Divan Orchestra / Daniel Barenboim
DESCRIPTION:Besetzung\nWest-Eastern Divan Orchestra\nDirigent: Daniel Bare
 nboim\n\nProgramm\nFranz Schubert\nSinfonie Nr. 7 h-Moll D 759 »Unvollend
 ete«\nRichard Wagner\nVorspiel und Liebestod aus der Oper »Tristan und I
 solde« WWV 90\n– Pause – \nLudwig van Beethoven\nSinfonie Nr. 3 Es-Du
 r op. 55 »Eroica«
UID:event27963@Elbphilharmonie.de
URL:https://www.elbphilharmonie.de/de/programm/west-eastern-divan-orchestr
 a-daniel-barenboim/27963
END:VEVENT
END:VCALENDAR
