BEGIN:VCALENDAR
METHOD:PUBLISH
CALSCALE:GREGORIAN
PRODID:Elbphilharmonie
VERSION:2.0
BEGIN:VTIMEZONE
TZID:Europe/Berlin
BEGIN:DAYLIGHT
TZOFFSETFROM:+0100
TZOFFSETTO:+0200
TZNAME:CEST
DTSTART:20200329T010000
RRULE:FREQ=YEARLY;INTERVAL=1;BYDAY=-1SU;BYMONTH=3
END:DAYLIGHT
BEGIN:STANDARD
TZOFFSETFROM:+0200
TZOFFSETTO:+0100
TZNAME:CET
DTSTART:20201025T010000
RRULE:FREQ=YEARLY;INTERVAL=1;BYDAY=-1SU;BYMONTH=10
END:STANDARD
END:VTIMEZONE
BEGIN:VEVENT
DTSTAMP:20260423T115400Z
DTSTART:20261025T190000Z
DTEND:20261025T210000Z
LOCATION:Elbphilharmonie Großer Saal
SUMMARY:WDR Sinfonieorchester / Antoine Tamestit / Iveta Apkalna / Marie J
 acquot
DESCRIPTION:Besetzung\nWDR Sinfonieorchester\nAntoine Tamestit: Viola\nIve
 ta Apkalna: Orgel\nDirigentin: Marie Jacquot\n\nProgramm\nRichard Wagner\n
 Ouvertüre zu »Tannhäuser« WWV 70\nThierry Escaich\nLa nuit des chants 
 / Konzert für Viola und Orchester\n– Pause – \nCamille Saint-Saëns\n
 Sinfonie Nr. 3 c-Moll op. 78 »Orgelsinfonie«
UID:event27947@Elbphilharmonie.de
URL:https://www.elbphilharmonie.de/de/programm/wdr-sinfonieorchester-antoi
 ne-tamestit-iveta-apkalna-marie-jacquot/27947
END:VEVENT
END:VCALENDAR
