BEGIN:VCALENDAR
METHOD:PUBLISH
CALSCALE:GREGORIAN
PRODID:Elbphilharmonie
VERSION:2.0
BEGIN:VTIMEZONE
TZID:Europe/Berlin
BEGIN:DAYLIGHT
TZOFFSETFROM:+0100
TZOFFSETTO:+0200
TZNAME:CEST
DTSTART:20200329T010000
RRULE:FREQ=YEARLY;INTERVAL=1;BYDAY=-1SU;BYMONTH=3
END:DAYLIGHT
BEGIN:STANDARD
TZOFFSETFROM:+0200
TZOFFSETTO:+0100
TZNAME:CET
DTSTART:20201025T010000
RRULE:FREQ=YEARLY;INTERVAL=1;BYDAY=-1SU;BYMONTH=10
END:STANDARD
END:VTIMEZONE
BEGIN:VEVENT
DTSTAMP:20260423T161100Z
DTSTART:20261114T150000Z
DTEND:20261114T161500Z
LOCATION:Laeiszhalle Kleiner Saal
SUMMARY:Vsevolod Zavidov\, Klavier
DESCRIPTION:Besetzung\nVsevolod Zavidov: Klavier\n\nProgramm\nJohann Sebas
 tian Bach / Sergej Rachmaninow\nPrélude\, Gavotte und Gigue / aus: Partit
 a Nr. 3 E-Dur BWV 1006\nFranz Schubert\nVier Impromptus D 899\nIgor Strawi
 nsky\nDrei Sätze aus Petruschka (Fassung für Klavier)
UID:event27957@Elbphilharmonie.de
URL:https://www.elbphilharmonie.de/de/programm/vsevolod-zavidov-klavier/27
 957
END:VEVENT
END:VCALENDAR
