BEGIN:VCALENDAR
METHOD:PUBLISH
CALSCALE:GREGORIAN
PRODID:Elbphilharmonie
VERSION:2.0
BEGIN:VTIMEZONE
TZID:Europe/Berlin
BEGIN:DAYLIGHT
TZOFFSETFROM:+0100
TZOFFSETTO:+0200
TZNAME:CEST
DTSTART:20200329T010000
RRULE:FREQ=YEARLY;INTERVAL=1;BYDAY=-1SU;BYMONTH=3
END:DAYLIGHT
BEGIN:STANDARD
TZOFFSETFROM:+0200
TZOFFSETTO:+0100
TZNAME:CET
DTSTART:20201025T010000
RRULE:FREQ=YEARLY;INTERVAL=1;BYDAY=-1SU;BYMONTH=10
END:STANDARD
END:VTIMEZONE
BEGIN:VEVENT
DTSTAMP:20260423T195500Z
DTSTART:20261202T183000Z
DTEND:20261202T213000Z
LOCATION:Elbphilharmonie Kleiner Saal
SUMMARY:Viviane Hagner / Matthias Schorn / Alexey Stadler / Adam Golka
DESCRIPTION:Besetzung\nMatthias Schorn: Klarinette\nViviane Hagner: Violin
 e\nAlexey Stadler: Violoncello\nAdam Golka: Klavier\n\nProgramm\nMieczysł
 aw Weinberg\nKlaviertrio a-Moll op. 24\n– Pause – \nOlivier Messiaen\
 nQuatuor pour la fin du temps
UID:event27999@Elbphilharmonie.de
URL:https://www.elbphilharmonie.de/de/programm/viviane-hagner-matthias-sch
 orn-alexey-stadler-adam-golka/27999
END:VEVENT
END:VCALENDAR
