BEGIN:VCALENDAR
METHOD:PUBLISH
CALSCALE:GREGORIAN
PRODID:Elbphilharmonie
VERSION:2.0
BEGIN:VTIMEZONE
TZID:Europe/Berlin
BEGIN:DAYLIGHT
TZOFFSETFROM:+0100
TZOFFSETTO:+0200
TZNAME:CEST
DTSTART:20200329T010000
RRULE:FREQ=YEARLY;INTERVAL=1;BYDAY=-1SU;BYMONTH=3
END:DAYLIGHT
BEGIN:STANDARD
TZOFFSETFROM:+0200
TZOFFSETTO:+0100
TZNAME:CET
DTSTART:20201025T010000
RRULE:FREQ=YEARLY;INTERVAL=1;BYDAY=-1SU;BYMONTH=10
END:STANDARD
END:VTIMEZONE
BEGIN:VEVENT
DTSTAMP:20260421T131200Z
DTSTART:20270110T183000Z
DTEND:20270110T201500Z
LOCATION:Elbphilharmonie Kleiner Saal
SUMMARY:Trio Lirico
DESCRIPTION:Besetzung\nTrio Lirico\nFranziska Pietsch: Violine\nAttila Ald
 emir: Viola\nArne-Christian Pelz: Violoncello\n\nProgramm\nLudwig van Beet
 hoven\nStreichtrio c-Moll op. 9/3\nBohuslav Martinů\nStreichtrio Nr. 2\n
 – Pause – \nAltug Ünlü\nStreichtrio\nErnst von Dohnányi\nSerenade f
 ür Streichtrio C-Dur op. 10
UID:event28842@Elbphilharmonie.de
URL:https://www.elbphilharmonie.de/de/programm/trio-lirico/28842
END:VEVENT
END:VCALENDAR
